BEGIN:VCALENDAR
VERSION:2.0
PRODID:-//ChamberMaster//Event Calendar 2.0//EN
METHOD:PUBLISH
X-PUBLISHED-TTL:P3D
REFRESH-INTERVAL:P3D
CALSCALE:GREGORIAN
BEGIN:VEVENT
DTSTART:20210421T200000Z
DTEND:20210421T210000Z
X-MICROSOFT-CDO-ALLDAYEVENT:FALSE
SUMMARY:Chamber Board of Directors
DESCRIPTION:Board of Directors Meeting
X-ALT-DESC;FMTTYPE=text/html:Board of Directors Meeting
LOCATION:Genesis Community Center 38112 15th Ave. Zephyrhills\, FL 33542
UID:e.3315.6354
SEQUENCE:3
DTSTAMP:20260422T135659Z
URL:http://zephyrhillschamber.smartcms.site/events/details/chamber-board-of-directors-04-21-2021-6354
END:VEVENT

END:VCALENDAR
