BEGIN:VCALENDAR
VERSION:2.0
PRODID:-//ChamberMaster//Event Calendar 2.0//EN
METHOD:PUBLISH
X-PUBLISHED-TTL:P3D
REFRESH-INTERVAL:P3D
CALSCALE:GREGORIAN
BEGIN:VEVENT
DTSTART:20191111T160000Z
DTEND:20191111T170000Z
X-MICROSOFT-CDO-ALLDAYEVENT:FALSE
SUMMARY:Veteran's Day Remembrance
DESCRIPTION:
X-ALT-DESC;FMTTYPE=text/html:
LOCATION:Ceremony at Zephyr Park\, by the Flag pole
UID:e.3315.1348
SEQUENCE:3
DTSTAMP:20260423T222124Z
URL:http://zephyrhillschamber.smartcms.site/events/details/veteran-s-day-remembrance-1348
END:VEVENT

END:VCALENDAR
